BEGIN:VCALENDAR
VERSION:2.0
PRODID:-//eventon.com NONSGML v1.0//EN
CALSCALE:GREGORIAN
METHOD:PUBLISH
BEGIN:VEVENT
UID:69ecc98fe7468
DTSTAMP:20260425T140255Z
DTSTART:20260430T150000Z
DTEND:20260430T190000Z
LOCATION:NHKM - İzmir
SUMMARY:Bıktım hüleyn
DESCRIPTION:yndpnrdtzhnrt pir pnrd part art ht  k pt lkç mkt mkt çmktçm
  tkü nhrpnrdhrdhr &nbsp;\nhttps://nhkmizmir.org/etkinlikler/biktim-huleyn/
URL:https://nhkmizmir.org/etkinlikler/biktim-huleyn/
END:VEVENT
END:VCALENDAR