BEGIN:VCALENDAR
VERSION:2.0
PRODID:-//eventon.com NONSGML v1.0//EN
CALSCALE:GREGORIAN
METHOD:PUBLISH
BEGIN:VEVENT
UID:69e56dde93085
DTSTAMP:20260420T000550Z
DTSTART:20221029T180000Z
DTEND:20221029T205000Z
LOCATION:
SUMMARY:Testtir
DESCRIPTION:ktalkm alkmeital kmtal mketil amkliumkta\nhttps://nhkmizmir.org
 /etkinlikler/testtir/
URL:https://nhkmizmir.org/etkinlikler/testtir/
END:VEVENT
END:VCALENDAR